BEGIN:VCALENDAR
VERSION:2.0
PRODID:-//Roma Sposa Bridal Shop - ECPv6.15.13//NONSGML v1.0//EN
CALSCALE:GREGORIAN
METHOD:PUBLISH
X-ORIGINAL-URL:https://www.romasposa.com
X-WR-CALDESC:Events for Roma Sposa Bridal Shop
REFRESH-INTERVAL;VALUE=DURATION:PT1H
X-Robots-Tag:noindex
X-PUBLISHED-TTL:PT1H
BEGIN:VTIMEZONE
TZID:America/Los_Angeles
BEGIN:DAYLIGHT
TZOFFSETFROM:-0800
TZOFFSETTO:-0700
TZNAME:PDT
DTSTART:20200308T100000
END:DAYLIGHT
BEGIN:STANDARD
TZOFFSETFROM:-0700
TZOFFSETTO:-0800
TZNAME:PST
DTSTART:20201101T090000
END:STANDARD
BEGIN:DAYLIGHT
TZOFFSETFROM:-0800
TZOFFSETTO:-0700
TZNAME:PDT
DTSTART:20210314T100000
END:DAYLIGHT
BEGIN:STANDARD
TZOFFSETFROM:-0700
TZOFFSETTO:-0800
TZNAME:PST
DTSTART:20211107T090000
END:STANDARD
BEGIN:DAYLIGHT
TZOFFSETFROM:-0800
TZOFFSETTO:-0700
TZNAME:PDT
DTSTART:20220313T100000
END:DAYLIGHT
BEGIN:STANDARD
TZOFFSETFROM:-0700
TZOFFSETTO:-0800
TZNAME:PST
DTSTART:20221106T090000
END:STANDARD
BEGIN:DAYLIGHT
TZOFFSETFROM:-0800
TZOFFSETTO:-0700
TZNAME:PDT
DTSTART:20230312T100000
END:DAYLIGHT
BEGIN:STANDARD
TZOFFSETFROM:-0700
TZOFFSETTO:-0800
TZNAME:PST
DTSTART:20231105T090000
END:STANDARD
BEGIN:DAYLIGHT
TZOFFSETFROM:-0800
TZOFFSETTO:-0700
TZNAME:PDT
DTSTART:20240310T100000
END:DAYLIGHT
BEGIN:STANDARD
TZOFFSETFROM:-0700
TZOFFSETTO:-0800
TZNAME:PST
DTSTART:20241103T090000
END:STANDARD
END:VTIMEZONE
BEGIN:VEVENT
DTSTART;VALUE=DATE:20230118
DTEND;VALUE=DATE:20230122
DTSTAMP:20260419T225649
CREATED:20230114T181744Z
LAST-MODIFIED:20230114T181744Z
UID:171593-1674000000-1674345599@www.romasposa.com
SUMMARY:Saiid Kobeisy Preview of Fall 2023 Bridal and evening Collection
DESCRIPTION:
URL:https://www.romasposa.com/event/saiid-kobeisy-preview-of-fall-2023-bridal-and-evening-collection-2/
END:VEVENT
BEGIN:VEVENT
DTSTART;VALUE=DATE:20221227
DTEND;VALUE=DATE:20230108
DTSTAMP:20260419T225649
CREATED:20221221T165043Z
LAST-MODIFIED:20221221T165043Z
UID:171582-1672099200-1673135999@www.romasposa.com
SUMMARY:Designer Sample Sale- Bridal and Evening
DESCRIPTION:
URL:https://www.romasposa.com/event/designer-sample-sale-bridal-and-evening/
END:VEVENT
BEGIN:VEVENT
DTSTART;VALUE=DATE:20221215
DTEND;VALUE=DATE:20221225
DTSTAMP:20260419T225649
CREATED:20221214T162801Z
LAST-MODIFIED:20221214T163145Z
UID:171576-1671062400-1671926399@www.romasposa.com
SUMMARY:Cyril Verdavainne Evening Collection Spring 2023
DESCRIPTION:
URL:https://www.romasposa.com/event/cyril-verdavainne-evening-wear-exclusive-event/
END:VEVENT
BEGIN:VEVENT
DTSTART;VALUE=DATE:20221213
DTEND;VALUE=DATE:20221218
DTSTAMP:20260419T225649
CREATED:20221213T211037Z
LAST-MODIFIED:20221213T211259Z
UID:171573-1670889600-1671321599@www.romasposa.com
SUMMARY:Rami Al Ali- "White 4" Exclusive Event
DESCRIPTION:
URL:https://www.romasposa.com/event/rami-al-ali-white-4-bridal-exclusive-event/
END:VEVENT
BEGIN:VEVENT
DTSTART;VALUE=DATE:20221118
DTEND;VALUE=DATE:20221127
DTSTAMP:20260419T225649
CREATED:20221118T163119Z
LAST-MODIFIED:20221118T163119Z
UID:171551-1668729600-1669507199@www.romasposa.com
SUMMARY:Tony Ward La Mariée FW2023 and Bridal Collections
DESCRIPTION:
URL:https://www.romasposa.com/event/tony-ward-la-mariee-fw2023-and-bridal-collections/
END:VEVENT
BEGIN:VEVENT
DTSTART;VALUE=DATE:20221118
DTEND;VALUE=DATE:20221127
DTSTAMP:20260419T225649
CREATED:20221114T172936Z
LAST-MODIFIED:20221116T162130Z
UID:171548-1668729600-1669507199@www.romasposa.com
SUMMARY:Maria Farbinni 2023- Giardino Floreale Bridal Collection
DESCRIPTION:
URL:https://www.romasposa.com/event/maria-farbinni-2023-giardino-floreale-bridal-collection/
END:VEVENT
BEGIN:VEVENT
DTSTART;VALUE=DATE:20221110
DTEND;VALUE=DATE:20221113
DTSTAMP:20260419T225649
CREATED:20221105T210849Z
LAST-MODIFIED:20221109T180710Z
UID:171542-1668038400-1668297599@www.romasposa.com
SUMMARY:Maria Elena FW23 "Telepathy"
DESCRIPTION:
URL:https://www.romasposa.com/event/maria-elena-fw23-telepathy/
END:VEVENT
BEGIN:VEVENT
DTSTART;VALUE=DATE:20221029
DTEND;VALUE=DATE:20221107
DTSTAMP:20260419T225649
CREATED:20221031T173454Z
LAST-MODIFIED:20221104T220624Z
UID:171510-1667001600-1667779199@www.romasposa.com
SUMMARY:Galia Lahav- Gala and Couture Collections
DESCRIPTION:
URL:https://www.romasposa.com/event/galia-lahav-trunk-show/
END:VEVENT
BEGIN:VEVENT
DTSTART;VALUE=DATE:20220929
DTEND;VALUE=DATE:20221002
DTSTAMP:20260419T225650
CREATED:20220725T044629Z
LAST-MODIFIED:20220725T044629Z
UID:171501-1664409600-1664668799@www.romasposa.com
SUMMARY:Verdin Bridal – Spring 2023 Collection
DESCRIPTION:
URL:https://www.romasposa.com/event/verdin-bridal-spring-2023-collection/
END:VEVENT
BEGIN:VEVENT
DTSTART;VALUE=DATE:20220909
DTEND;VALUE=DATE:20220918
DTSTAMP:20260419T225650
CREATED:20220725T044544Z
LAST-MODIFIED:20220725T044544Z
UID:171499-1662681600-1663459199@www.romasposa.com
SUMMARY:Estee Couture
DESCRIPTION:
URL:https://www.romasposa.com/event/estee-couture/
END:VEVENT
BEGIN:VEVENT
DTSTART;VALUE=DATE:20220908
DTEND;VALUE=DATE:20220911
DTSTAMP:20260419T225650
CREATED:20220725T044507Z
LAST-MODIFIED:20220725T044507Z
UID:171497-1662595200-1662854399@www.romasposa.com
SUMMARY:Viktor & Rolf – Spring 2023 Collection
DESCRIPTION:
URL:https://www.romasposa.com/event/viktor-rolf-spring-2023-collection/
END:VEVENT
BEGIN:VEVENT
DTSTART;VALUE=DATE:20220819
DTEND;VALUE=DATE:20220909
DTSTAMP:20260419T225650
CREATED:20220725T044443Z
LAST-MODIFIED:20220725T044443Z
UID:171495-1660867200-1662681599@www.romasposa.com
SUMMARY:Inbal Dror – La Premiere 2023 Collection
DESCRIPTION:
URL:https://www.romasposa.com/event/inbal-dror-la-premiere-2023-collection/
END:VEVENT
BEGIN:VEVENT
DTSTART;VALUE=DATE:20220728
DTEND;VALUE=DATE:20220807
DTSTAMP:20260419T225650
CREATED:20220725T044408Z
LAST-MODIFIED:20220725T044408Z
UID:171493-1658966400-1659830399@www.romasposa.com
SUMMARY:Romona keveza – Legend Collection Spring 2023
DESCRIPTION:
URL:https://www.romasposa.com/event/romona-keveza-legend-collection-spring-2023/
END:VEVENT
BEGIN:VEVENT
DTSTART;VALUE=DATE:20220526
DTEND;VALUE=DATE:20220605
DTSTAMP:20260419T225650
CREATED:20220308T050355Z
LAST-MODIFIED:20220308T050355Z
UID:171425-1653523200-1654387199@www.romasposa.com
SUMMARY:Tal Kedem
DESCRIPTION:
URL:https://www.romasposa.com/event/tal-kedem/
END:VEVENT
BEGIN:VEVENT
DTSTART;VALUE=DATE:20220526
DTEND;VALUE=DATE:20220605
DTSTAMP:20260419T225650
CREATED:20220222T035429Z
LAST-MODIFIED:20220222T035429Z
UID:171240-1653523200-1654387199@www.romasposa.com
SUMMARY:Tal Kedem Bridal
DESCRIPTION:
URL:https://www.romasposa.com/event/tal-kedem-bridal/
END:VEVENT
BEGIN:VEVENT
DTSTART;VALUE=DATE:20220519
DTEND;VALUE=DATE:20220522
DTSTAMP:20260419T225650
CREATED:20220308T050334Z
LAST-MODIFIED:20220308T050334Z
UID:171423-1652918400-1653177599@www.romasposa.com
SUMMARY:Cyril Verdavainne – Evening-preview new collection
DESCRIPTION:
URL:https://www.romasposa.com/event/cyril-verdavainne-evening-preview-new-collection/
END:VEVENT
BEGIN:VEVENT
DTSTART;VALUE=DATE:20220505
DTEND;VALUE=DATE:20220508
DTSTAMP:20260419T225650
CREATED:20220308T050206Z
LAST-MODIFIED:20220308T050206Z
UID:171420-1651708800-1651967999@www.romasposa.com
SUMMARY:Viktor & Rolf – Preview Spring 2023 collection
DESCRIPTION:
URL:https://www.romasposa.com/event/viktor-rolf-preview-spring-2023-collection/
END:VEVENT
BEGIN:VEVENT
DTSTART;VALUE=DATE:20220505
DTEND;VALUE=DATE:20220515
DTSTAMP:20260419T225650
CREATED:20220222T034857Z
LAST-MODIFIED:20220308T050248Z
UID:171236-1651708800-1652572799@www.romasposa.com
SUMMARY:Inbal Dror
DESCRIPTION:
URL:https://www.romasposa.com/event/inbal-dror/
END:VEVENT
BEGIN:VEVENT
DTSTART;VALUE=DATE:20220428
DTEND;VALUE=DATE:20220501
DTSTAMP:20260419T225650
CREATED:20220308T050103Z
LAST-MODIFIED:20220308T050103Z
UID:171418-1651104000-1651363199@www.romasposa.com
SUMMARY:Alex Teih – Evening Wear-Preview New Collection
DESCRIPTION:
URL:https://www.romasposa.com/event/alex-teih-evening-wear-preview-new-collection/
END:VEVENT
BEGIN:VEVENT
DTSTART;VALUE=DATE:20220408
DTEND;VALUE=DATE:20220411
DTSTAMP:20260419T225650
CREATED:20220406T172656Z
LAST-MODIFIED:20220406T172656Z
UID:171458-1649376000-1649635199@www.romasposa.com
SUMMARY:Galia Lahav – Couture and Gala collection
DESCRIPTION:
URL:https://www.romasposa.com/event/galia-lahav-couture-and-gala-collection-2/
END:VEVENT
BEGIN:VEVENT
DTSTART;VALUE=DATE:20220331
DTEND;VALUE=DATE:20220403
DTSTAMP:20260419T225650
CREATED:20220222T034805Z
LAST-MODIFIED:20220308T050016Z
UID:171234-1648684800-1648943999@www.romasposa.com
SUMMARY:Viktor & Rolf Bridal
DESCRIPTION:
URL:https://www.romasposa.com/event/viktor-rolf-bridal/
END:VEVENT
BEGIN:VEVENT
DTSTART;VALUE=DATE:20220324
DTEND;VALUE=DATE:20220327
DTSTAMP:20260419T225650
CREATED:20211201T162145Z
LAST-MODIFIED:20211201T162145Z
UID:169432-1648080000-1648339199@www.romasposa.com
SUMMARY:Romona Keveza – RKC Collection and Legends
DESCRIPTION:
URL:https://www.romasposa.com/event/romona-keveza-rkc-collection-and-legends/
END:VEVENT
BEGIN:VEVENT
DTSTART;VALUE=DATE:20220317
DTEND;VALUE=DATE:20220320
DTSTAMP:20260419T225650
CREATED:20211201T162112Z
LAST-MODIFIED:20211201T162112Z
UID:169430-1647475200-1647734399@www.romasposa.com
SUMMARY:Maria Farbinni
DESCRIPTION:
URL:https://www.romasposa.com/event/maria-farbinni/
END:VEVENT
BEGIN:VEVENT
DTSTART;VALUE=DATE:20220310
DTEND;VALUE=DATE:20220313
DTSTAMP:20260419T225650
CREATED:20220308T045900Z
LAST-MODIFIED:20220308T045900Z
UID:171415-1646870400-1647129599@www.romasposa.com
SUMMARY:Peter Langner – Evening Collection
DESCRIPTION:
URL:https://www.romasposa.com/event/peter-langner-evening-collection/
END:VEVENT
BEGIN:VEVENT
DTSTART;VALUE=DATE:20220310
DTEND;VALUE=DATE:20220313
DTSTAMP:20260419T225650
CREATED:20220222T035213Z
LAST-MODIFIED:20220307T210526Z
UID:171238-1646870400-1647129599@www.romasposa.com
SUMMARY:Cyril Verdavainne – Evening Collection
DESCRIPTION:
URL:https://www.romasposa.com/event/cyril-verdavainne-evening-collection/
END:VEVENT
BEGIN:VEVENT
DTSTART;VALUE=DATE:20220303
DTEND;VALUE=DATE:20220306
DTSTAMP:20260419T225650
CREATED:20220223T091307Z
LAST-MODIFIED:20220223T091307Z
UID:171321-1646265600-1646524799@www.romasposa.com
SUMMARY:Maria Elena Headpieces – Accessories
DESCRIPTION:
URL:https://www.romasposa.com/event/maria-elena-headpieces-accessories/
END:VEVENT
BEGIN:VEVENT
DTSTART;VALUE=DATE:20220226
DTEND;VALUE=DATE:20220310
DTSTAMP:20260419T225650
CREATED:20220223T203107Z
LAST-MODIFIED:20220223T203107Z
UID:171362-1645833600-1646870399@www.romasposa.com
SUMMARY:J’Aton Collection
DESCRIPTION:
URL:https://www.romasposa.com/event/jaton-collection/
END:VEVENT
BEGIN:VEVENT
DTSTART;VALUE=DATE:20220217
DTEND;VALUE=DATE:20220220
DTSTAMP:20260419T225650
CREATED:20211201T161953Z
LAST-MODIFIED:20211201T162045Z
UID:169426-1645056000-1645315199@www.romasposa.com
SUMMARY:Romona Keveza – Legends
DESCRIPTION:
URL:https://www.romasposa.com/event/romona-keveza-legends/
END:VEVENT
BEGIN:VEVENT
DTSTART;VALUE=DATE:20211217
DTEND;VALUE=DATE:20211231
DTSTAMP:20260419T225650
CREATED:20211201T161856Z
LAST-MODIFIED:20211201T161856Z
UID:169424-1639699200-1640908799@www.romasposa.com
SUMMARY:Ines Di Santo
DESCRIPTION:
URL:https://www.romasposa.com/event/ines-di-santo/
END:VEVENT
BEGIN:VEVENT
DTSTART;VALUE=DATE:20211210
DTEND;VALUE=DATE:20211213
DTSTAMP:20260419T225650
CREATED:20211201T161827Z
LAST-MODIFIED:20211201T161827Z
UID:169422-1639094400-1639353599@www.romasposa.com
SUMMARY:Galia Lahav – Couture and Gala collection
DESCRIPTION:
URL:https://www.romasposa.com/event/galia-lahav-couture-and-gala-collection/
END:VEVENT
END:VCALENDAR