BEGIN:VCALENDAR
VERSION:2.0
PRODID:-//Roma Sposa Bridal Shop - ECPv6.15.13//NONSGML v1.0//EN
CALSCALE:GREGORIAN
METHOD:PUBLISH
X-WR-CALNAME:Roma Sposa Bridal Shop
X-ORIGINAL-URL:https://www.romasposa.com
X-WR-CALDESC:Events for Roma Sposa Bridal Shop
REFRESH-INTERVAL;VALUE=DURATION:PT1H
X-Robots-Tag:noindex
X-PUBLISHED-TTL:PT1H
BEGIN:VTIMEZONE
TZID:America/Los_Angeles
BEGIN:DAYLIGHT
TZOFFSETFROM:-0800
TZOFFSETTO:-0700
TZNAME:PDT
DTSTART:20210314T100000
END:DAYLIGHT
BEGIN:STANDARD
TZOFFSETFROM:-0700
TZOFFSETTO:-0800
TZNAME:PST
DTSTART:20211107T090000
END:STANDARD
BEGIN:DAYLIGHT
TZOFFSETFROM:-0800
TZOFFSETTO:-0700
TZNAME:PDT
DTSTART:20220313T100000
END:DAYLIGHT
BEGIN:STANDARD
TZOFFSETFROM:-0700
TZOFFSETTO:-0800
TZNAME:PST
DTSTART:20221106T090000
END:STANDARD
BEGIN:DAYLIGHT
TZOFFSETFROM:-0800
TZOFFSETTO:-0700
TZNAME:PDT
DTSTART:20230312T100000
END:DAYLIGHT
BEGIN:STANDARD
TZOFFSETFROM:-0700
TZOFFSETTO:-0800
TZNAME:PST
DTSTART:20231105T090000
END:STANDARD
BEGIN:DAYLIGHT
TZOFFSETFROM:-0800
TZOFFSETTO:-0700
TZNAME:PDT
DTSTART:20240310T100000
END:DAYLIGHT
BEGIN:STANDARD
TZOFFSETFROM:-0700
TZOFFSETTO:-0800
TZNAME:PST
DTSTART:20241103T090000
END:STANDARD
END:VTIMEZONE
BEGIN:VEVENT
DTSTART;VALUE=DATE:20230727
DTEND;VALUE=DATE:20230730
DTSTAMP:20260420T004705
CREATED:20230727T155241Z
LAST-MODIFIED:20230727T155241Z
UID:172349-1690416000-1690675199@www.romasposa.com
SUMMARY:Galia Lahav
DESCRIPTION:
URL:https://www.romasposa.com/event/galia-lahav-3/
END:VEVENT
BEGIN:VEVENT
DTSTART;VALUE=DATE:20230720
DTEND;VALUE=DATE:20230721
DTSTAMP:20260420T004705
CREATED:20230707T201037Z
LAST-MODIFIED:20230707T201037Z
UID:172341-1689811200-1689897599@www.romasposa.com
SUMMARY:Galia Lahav
DESCRIPTION:
URL:https://www.romasposa.com/event/galia-lahav-2/
END:VEVENT
BEGIN:VEVENT
DTSTART;VALUE=DATE:20230706
DTEND;VALUE=DATE:20230716
DTSTAMP:20260420T004705
CREATED:20230707T200950Z
LAST-MODIFIED:20230707T200950Z
UID:172339-1688601600-1689465599@www.romasposa.com
SUMMARY:Amsale Bridal/Evening
DESCRIPTION:
URL:https://www.romasposa.com/event/amsale-bridal-evening/
END:VEVENT
BEGIN:VEVENT
DTSTART;VALUE=DATE:20230629
DTEND;VALUE=DATE:20230709
DTSTAMP:20260420T004705
CREATED:20230519T202405Z
LAST-MODIFIED:20230519T202405Z
UID:172225-1687996800-1688860799@www.romasposa.com
SUMMARY:Romona keveza
DESCRIPTION:
URL:https://www.romasposa.com/event/romona-keveza/
END:VEVENT
BEGIN:VEVENT
DTSTART;VALUE=DATE:20230609
DTEND;VALUE=DATE:20230619
DTSTAMP:20260420T004705
CREATED:20230607T232813Z
LAST-MODIFIED:20230607T232813Z
UID:172275-1686268800-1687132799@www.romasposa.com
SUMMARY:Enura
DESCRIPTION:
URL:https://www.romasposa.com/event/enura/
END:VEVENT
BEGIN:VEVENT
DTSTART;VALUE=DATE:20230601
DTEND;VALUE=DATE:20230604
DTSTAMP:20260420T004705
CREATED:20230519T202304Z
LAST-MODIFIED:20230519T202304Z
UID:172223-1685577600-1685836799@www.romasposa.com
SUMMARY:Maria Farbinni
DESCRIPTION:
URL:https://www.romasposa.com/event/maria-farbinni-2/
END:VEVENT
BEGIN:VEVENT
DTSTART;VALUE=DATE:20230525
DTEND;VALUE=DATE:20230604
DTSTAMP:20260420T004705
CREATED:20230519T202221Z
LAST-MODIFIED:20230519T202221Z
UID:172221-1684972800-1685836799@www.romasposa.com
SUMMARY:Jean Louis Sabaji
DESCRIPTION:
URL:https://www.romasposa.com/event/jean-louis-sabaji/
END:VEVENT
BEGIN:VEVENT
DTSTART;VALUE=DATE:20230525
DTEND;VALUE=DATE:20230528
DTSTAMP:20260420T004705
CREATED:20230519T202116Z
LAST-MODIFIED:20230519T202116Z
UID:172219-1684972800-1685231999@www.romasposa.com
SUMMARY:Galia Lahav
DESCRIPTION:
URL:https://www.romasposa.com/event/galia-lahav/
END:VEVENT
BEGIN:VEVENT
DTSTART;VALUE=DATE:20230518
DTEND;VALUE=DATE:20230604
DTSTAMP:20260420T004705
CREATED:20230518T134829Z
LAST-MODIFIED:20230518T134829Z
UID:172217-1684368000-1685836799@www.romasposa.com
SUMMARY:Peter Langner Veils
DESCRIPTION:
URL:https://www.romasposa.com/event/peter-langner-veils/
END:VEVENT
BEGIN:VEVENT
DTSTART;VALUE=DATE:20230420
DTEND;VALUE=DATE:20230423
DTSTAMP:20260420T004705
CREATED:20230325T135922Z
LAST-MODIFIED:20230325T135922Z
UID:172126-1681948800-1682207999@www.romasposa.com
SUMMARY:Maria Elena Accessories – New Collection
DESCRIPTION:
URL:https://www.romasposa.com/event/maria-elena-accessories-new-collection/
END:VEVENT
BEGIN:VEVENT
DTSTART;VALUE=DATE:20230404
DTEND;VALUE=DATE:20230416
DTSTAMP:20260420T004705
CREATED:20230325T135837Z
LAST-MODIFIED:20230325T135837Z
UID:172124-1680566400-1681603199@www.romasposa.com
SUMMARY:Serge Jevaguine – Symphony Collection
DESCRIPTION:
URL:https://www.romasposa.com/event/serge-jevaguine-symphony-collection/
END:VEVENT
BEGIN:VEVENT
DTSTART;VALUE=DATE:20230330
DTEND;VALUE=DATE:20230402
DTSTAMP:20260420T004705
CREATED:20230325T135727Z
LAST-MODIFIED:20230325T135727Z
UID:172122-1680134400-1680393599@www.romasposa.com
SUMMARY:Romona Keveza Bridal Collection – Legend Collection
DESCRIPTION:
URL:https://www.romasposa.com/event/romona-keveza-bridal-collection-legend-collection/
END:VEVENT
BEGIN:VEVENT
DTSTART;VALUE=DATE:20230323
DTEND;VALUE=DATE:20230402
DTSTAMP:20260420T004705
CREATED:20230224T211635Z
LAST-MODIFIED:20230224T211635Z
UID:172108-1679529600-1680393599@www.romasposa.com
SUMMARY:Peter Langner Evening Collection
DESCRIPTION:
URL:https://www.romasposa.com/event/peter-langner-evening-collection-2/
END:VEVENT
BEGIN:VEVENT
DTSTART;VALUE=DATE:20230316
DTEND;VALUE=DATE:20230326
DTSTAMP:20260420T004705
CREATED:20230131T203118Z
LAST-MODIFIED:20230131T203118Z
UID:171704-1678924800-1679788799@www.romasposa.com
SUMMARY:Yolancris Bridal/Evening 2023 Collection
DESCRIPTION:
URL:https://www.romasposa.com/event/yolancris-bridal-evening-2023-collection/
END:VEVENT
BEGIN:VEVENT
DTSTART;VALUE=DATE:20230302
DTEND;VALUE=DATE:20230312
DTSTAMP:20260420T004705
CREATED:20230224T211535Z
LAST-MODIFIED:20230224T211535Z
UID:172105-1677715200-1678579199@www.romasposa.com
SUMMARY:Jean Louis Sabaji Evening wear
DESCRIPTION:
URL:https://www.romasposa.com/event/jean-louis-sabaji-evening-wear/
END:VEVENT
BEGIN:VEVENT
DTSTART;VALUE=DATE:20230224
DTEND;VALUE=DATE:20230305
DTSTAMP:20260420T004705
CREATED:20230224T211314Z
LAST-MODIFIED:20230224T211314Z
UID:172103-1677196800-1677974399@www.romasposa.com
SUMMARY:Rami Al Ali "White 4"
DESCRIPTION:
URL:https://www.romasposa.com/event/rami-al-ali-white-4/
END:VEVENT
BEGIN:VEVENT
DTSTART;VALUE=DATE:20230217
DTEND;VALUE=DATE:20230226
DTSTAMP:20260420T004705
CREATED:20221221T164906Z
LAST-MODIFIED:20221221T164906Z
UID:171580-1676592000-1677369599@www.romasposa.com
SUMMARY:Maria Farbinni "Giardino Floreale" 2023 Colletion
DESCRIPTION:
URL:https://www.romasposa.com/event/maria-farbinni-giardino-floreale-2023-colletion/
END:VEVENT
BEGIN:VEVENT
DTSTART;VALUE=DATE:20230124
DTEND;VALUE=DATE:20230129
DTSTAMP:20260420T004705
CREATED:20221221T172150Z
LAST-MODIFIED:20221221T172150Z
UID:171584-1674518400-1674950399@www.romasposa.com
SUMMARY:Amsale Bridal and Evening Collections
DESCRIPTION:
URL:https://www.romasposa.com/event/amsale-bridal-and-evening-collections/
END:VEVENT
BEGIN:VEVENT
DTSTART;VALUE=DATE:20230118
DTEND;VALUE=DATE:20230122
DTSTAMP:20260420T004705
CREATED:20230114T181744Z
LAST-MODIFIED:20230114T181744Z
UID:171593-1674000000-1674345599@www.romasposa.com
SUMMARY:Saiid Kobeisy Preview of Fall 2023 Bridal and evening Collection
DESCRIPTION:
URL:https://www.romasposa.com/event/saiid-kobeisy-preview-of-fall-2023-bridal-and-evening-collection-2/
END:VEVENT
BEGIN:VEVENT
DTSTART;VALUE=DATE:20221227
DTEND;VALUE=DATE:20230108
DTSTAMP:20260420T004705
CREATED:20221221T165043Z
LAST-MODIFIED:20221221T165043Z
UID:171582-1672099200-1673135999@www.romasposa.com
SUMMARY:Designer Sample Sale- Bridal and Evening
DESCRIPTION:
URL:https://www.romasposa.com/event/designer-sample-sale-bridal-and-evening/
END:VEVENT
BEGIN:VEVENT
DTSTART;VALUE=DATE:20221215
DTEND;VALUE=DATE:20221225
DTSTAMP:20260420T004705
CREATED:20221214T162801Z
LAST-MODIFIED:20221214T163145Z
UID:171576-1671062400-1671926399@www.romasposa.com
SUMMARY:Cyril Verdavainne Evening Collection Spring 2023
DESCRIPTION:
URL:https://www.romasposa.com/event/cyril-verdavainne-evening-wear-exclusive-event/
END:VEVENT
BEGIN:VEVENT
DTSTART;VALUE=DATE:20221213
DTEND;VALUE=DATE:20221218
DTSTAMP:20260420T004705
CREATED:20221213T211037Z
LAST-MODIFIED:20221213T211259Z
UID:171573-1670889600-1671321599@www.romasposa.com
SUMMARY:Rami Al Ali- "White 4" Exclusive Event
DESCRIPTION:
URL:https://www.romasposa.com/event/rami-al-ali-white-4-bridal-exclusive-event/
END:VEVENT
BEGIN:VEVENT
DTSTART;VALUE=DATE:20221118
DTEND;VALUE=DATE:20221127
DTSTAMP:20260420T004705
CREATED:20221118T163119Z
LAST-MODIFIED:20221118T163119Z
UID:171551-1668729600-1669507199@www.romasposa.com
SUMMARY:Tony Ward La Mariée FW2023 and Bridal Collections
DESCRIPTION:
URL:https://www.romasposa.com/event/tony-ward-la-mariee-fw2023-and-bridal-collections/
END:VEVENT
BEGIN:VEVENT
DTSTART;VALUE=DATE:20221118
DTEND;VALUE=DATE:20221127
DTSTAMP:20260420T004705
CREATED:20221114T172936Z
LAST-MODIFIED:20221116T162130Z
UID:171548-1668729600-1669507199@www.romasposa.com
SUMMARY:Maria Farbinni 2023- Giardino Floreale Bridal Collection
DESCRIPTION:
URL:https://www.romasposa.com/event/maria-farbinni-2023-giardino-floreale-bridal-collection/
END:VEVENT
BEGIN:VEVENT
DTSTART;VALUE=DATE:20221110
DTEND;VALUE=DATE:20221113
DTSTAMP:20260420T004705
CREATED:20221105T210849Z
LAST-MODIFIED:20221109T180710Z
UID:171542-1668038400-1668297599@www.romasposa.com
SUMMARY:Maria Elena FW23 "Telepathy"
DESCRIPTION:
URL:https://www.romasposa.com/event/maria-elena-fw23-telepathy/
END:VEVENT
BEGIN:VEVENT
DTSTART;VALUE=DATE:20221029
DTEND;VALUE=DATE:20221107
DTSTAMP:20260420T004705
CREATED:20221031T173454Z
LAST-MODIFIED:20221104T220624Z
UID:171510-1667001600-1667779199@www.romasposa.com
SUMMARY:Galia Lahav- Gala and Couture Collections
DESCRIPTION:
URL:https://www.romasposa.com/event/galia-lahav-trunk-show/
END:VEVENT
BEGIN:VEVENT
DTSTART;VALUE=DATE:20220929
DTEND;VALUE=DATE:20221002
DTSTAMP:20260420T004705
CREATED:20220725T044629Z
LAST-MODIFIED:20220725T044629Z
UID:171501-1664409600-1664668799@www.romasposa.com
SUMMARY:Verdin Bridal – Spring 2023 Collection
DESCRIPTION:
URL:https://www.romasposa.com/event/verdin-bridal-spring-2023-collection/
END:VEVENT
BEGIN:VEVENT
DTSTART;VALUE=DATE:20220909
DTEND;VALUE=DATE:20220918
DTSTAMP:20260420T004705
CREATED:20220725T044544Z
LAST-MODIFIED:20220725T044544Z
UID:171499-1662681600-1663459199@www.romasposa.com
SUMMARY:Estee Couture
DESCRIPTION:
URL:https://www.romasposa.com/event/estee-couture/
END:VEVENT
BEGIN:VEVENT
DTSTART;VALUE=DATE:20220908
DTEND;VALUE=DATE:20220911
DTSTAMP:20260420T004705
CREATED:20220725T044507Z
LAST-MODIFIED:20220725T044507Z
UID:171497-1662595200-1662854399@www.romasposa.com
SUMMARY:Viktor & Rolf – Spring 2023 Collection
DESCRIPTION:
URL:https://www.romasposa.com/event/viktor-rolf-spring-2023-collection/
END:VEVENT
BEGIN:VEVENT
DTSTART;VALUE=DATE:20220819
DTEND;VALUE=DATE:20220909
DTSTAMP:20260420T004705
CREATED:20220725T044443Z
LAST-MODIFIED:20220725T044443Z
UID:171495-1660867200-1662681599@www.romasposa.com
SUMMARY:Inbal Dror – La Premiere 2023 Collection
DESCRIPTION:
URL:https://www.romasposa.com/event/inbal-dror-la-premiere-2023-collection/
END:VEVENT
END:VCALENDAR