BEGIN:VCALENDAR
VERSION:2.0
PRODID:-//Roma Sposa Bridal Shop - ECPv6.15.13//NONSGML v1.0//EN
CALSCALE:GREGORIAN
METHOD:PUBLISH
X-WR-CALNAME:Roma Sposa Bridal Shop
X-ORIGINAL-URL:https://www.romasposa.com
X-WR-CALDESC:Events for Roma Sposa Bridal Shop
REFRESH-INTERVAL;VALUE=DURATION:PT1H
X-Robots-Tag:noindex
X-PUBLISHED-TTL:PT1H
BEGIN:VTIMEZONE
TZID:America/Los_Angeles
BEGIN:DAYLIGHT
TZOFFSETFROM:-0800
TZOFFSETTO:-0700
TZNAME:PDT
DTSTART:20220313T100000
END:DAYLIGHT
BEGIN:STANDARD
TZOFFSETFROM:-0700
TZOFFSETTO:-0800
TZNAME:PST
DTSTART:20221106T090000
END:STANDARD
BEGIN:DAYLIGHT
TZOFFSETFROM:-0800
TZOFFSETTO:-0700
TZNAME:PDT
DTSTART:20230312T100000
END:DAYLIGHT
BEGIN:STANDARD
TZOFFSETFROM:-0700
TZOFFSETTO:-0800
TZNAME:PST
DTSTART:20231105T090000
END:STANDARD
BEGIN:DAYLIGHT
TZOFFSETFROM:-0800
TZOFFSETTO:-0700
TZNAME:PDT
DTSTART:20240310T100000
END:DAYLIGHT
BEGIN:STANDARD
TZOFFSETFROM:-0700
TZOFFSETTO:-0800
TZNAME:PST
DTSTART:20241103T090000
END:STANDARD
BEGIN:DAYLIGHT
TZOFFSETFROM:-0800
TZOFFSETTO:-0700
TZNAME:PDT
DTSTART:20250309T100000
END:DAYLIGHT
BEGIN:STANDARD
TZOFFSETFROM:-0700
TZOFFSETTO:-0800
TZNAME:PST
DTSTART:20251102T090000
END:STANDARD
END:VTIMEZONE
BEGIN:VEVENT
DTSTART;VALUE=DATE:20241220
DTEND;VALUE=DATE:20241230
DTSTAMP:20260419T231654
CREATED:20241101T230645Z
LAST-MODIFIED:20241101T230645Z
UID:173392-1734652800-1735516799@www.romasposa.com
SUMMARY:Pnina Tornai Bridal Trunk Show- Love Collection
DESCRIPTION:I created my very first Love by Pnina Tornai collection as a way to share my love with brides all over the world\, allowing more brides the opportunity to wear their dream Pnina dress. Now\, with my new collection\, I am finally bringing my gowns to bridal salons across the United States\, making it even easier for my brides to say “yes” to one of my dresses! I couldn’t resist making this collection my biggest one yet\, with nearly 50 dresses— from satin and lace ball gowns embellished with my signature pearls and crystals to delightful short dresses that make dancing the night away even more fun. \nLove\, \nPnina
URL:https://www.romasposa.com/event/pnina-tornai-bridal-trunk-show-love-collection/
END:VEVENT
BEGIN:VEVENT
DTSTART;VALUE=DATE:20241129
DTEND;VALUE=DATE:20241208
DTSTAMP:20260419T231654
CREATED:20241101T230058Z
LAST-MODIFIED:20241101T230058Z
UID:173388-1732838400-1733615999@www.romasposa.com
SUMMARY:Cyril Verdavainne Evening Wear Trunk Show
DESCRIPTION:
URL:https://www.romasposa.com/event/cyril-verdavainne-evening-wear-trunk-show/
END:VEVENT
BEGIN:VEVENT
DTSTART;VALUE=DATE:20241121
DTEND;VALUE=DATE:20241201
DTSTAMP:20260419T231654
CREATED:20241101T225946Z
LAST-MODIFIED:20241125T181824Z
UID:173385-1732147200-1733011199@www.romasposa.com
SUMMARY:Annarita Bridal Trunk Show
DESCRIPTION:  \nhttps://www.romasposa.com/wp-content/uploads/2024/11/RSposa-November-2024.mp4\nNovember 23rd Annarita designer appearance
URL:https://www.romasposa.com/event/annarita-bridal-trunk-show/
END:VEVENT
BEGIN:VEVENT
DTSTART;VALUE=DATE:20241108
DTEND;VALUE=DATE:20241120
DTSTAMP:20260419T231654
CREATED:20241101T225405Z
LAST-MODIFIED:20241104T191311Z
UID:173383-1731024000-1732060799@www.romasposa.com
SUMMARY:The Atelier by Jimmy Choo- Spring/Summer 2025 Bridal Trunk Show
DESCRIPTION:
URL:https://www.romasposa.com/event/the-atelier-by-jimmy-choo-bridal-trunk-show/
END:VEVENT
BEGIN:VEVENT
DTSTART;VALUE=DATE:20240815
DTEND;VALUE=DATE:20240817
DTSTAMP:20260419T231654
CREATED:20240813T183129Z
LAST-MODIFIED:20240813T183129Z
UID:172530-1723680000-1723852799@www.romasposa.com
SUMMARY:Alex Teih Couture Evening Wear Trunk Show
DESCRIPTION:Based in New York\, fashion designer Alex Teih is known for his couture evening wear and cocktail dresses. His high fashion designs are modern and flirtatious with a polished sophistication that agree with the relaxed formality of today’s lifestyles. Alex Teih creates a variety of unique silhouettes that compliment every body type. His European heritage\, combined with a background in cinema and costume design\, are evident in each collection’s intricacy A master of draping\, Alex Teih achieves grand effect with simple gestures. Impeccably tailored and controlled bodices go unnoticed within each layered skirt and hem. Rather than fabricate a design\, Teih first finds fabric and then works to discover its essence. The result is a collection that features a perfect balance of trend and innovation that leads to his signature aura of edgy romance.
URL:https://www.romasposa.com/event/alex-teih-couture-evening-wear-trunk-show/
END:VEVENT
BEGIN:VEVENT
DTSTART;VALUE=DATE:20240418
DTEND;VALUE=DATE:20240421
DTSTAMP:20260419T231654
CREATED:20240319T202103Z
LAST-MODIFIED:20240319T202103Z
UID:172420-1713398400-1713657599@www.romasposa.com
SUMMARY:Maria Elena Headpieces & Accessories Trunk Show
DESCRIPTION:
URL:https://www.romasposa.com/event/maria-elena-headpieces-accessories-trunk-show/
END:VEVENT
BEGIN:VEVENT
DTSTART;VALUE=DATE:20240403
DTEND;VALUE=DATE:20240406
DTSTAMP:20260419T231654
CREATED:20240319T201911Z
LAST-MODIFIED:20240319T201911Z
UID:172418-1712102400-1712361599@www.romasposa.com
SUMMARY:Maria Farbinni Trunk Show
DESCRIPTION:
URL:https://www.romasposa.com/event/maria-farbinni-trunk-show/
END:VEVENT
BEGIN:VEVENT
DTSTART;VALUE=DATE:20240321
DTEND;VALUE=DATE:20240331
DTSTAMP:20260419T231654
CREATED:20240319T201722Z
LAST-MODIFIED:20240319T201722Z
UID:172416-1710979200-1711843199@www.romasposa.com
SUMMARY:The Atelier Couture by Jimmy Choo Trunk Show
DESCRIPTION:
URL:https://www.romasposa.com/event/the-atelier-couture-by-jimmy-choo-trunk-show/
END:VEVENT
BEGIN:VEVENT
DTSTART;VALUE=DATE:20240125
DTEND;VALUE=DATE:20240204
DTSTAMP:20260419T231654
CREATED:20231207T195813Z
LAST-MODIFIED:20231207T195813Z
UID:172412-1706140800-1707004799@www.romasposa.com
SUMMARY:Gattinolli
DESCRIPTION:
URL:https://www.romasposa.com/event/gattinolli/
END:VEVENT
BEGIN:VEVENT
DTSTART;VALUE=DATE:20240118
DTEND;VALUE=DATE:20240128
DTSTAMP:20260419T231654
CREATED:20231207T195734Z
LAST-MODIFIED:20231207T195734Z
UID:172410-1705536000-1706399999@www.romasposa.com
SUMMARY:Jackie White
DESCRIPTION:
URL:https://www.romasposa.com/event/jackie-white/
END:VEVENT
BEGIN:VEVENT
DTSTART;VALUE=DATE:20231229
DTEND;VALUE=DATE:20240107
DTSTAMP:20260419T231654
CREATED:20231207T195708Z
LAST-MODIFIED:20231207T195708Z
UID:172408-1703808000-1704585599@www.romasposa.com
SUMMARY:Galia Lahav
DESCRIPTION:
URL:https://www.romasposa.com/event/galia-lahav-4/
END:VEVENT
BEGIN:VEVENT
DTSTART;VALUE=DATE:20231221
DTEND;VALUE=DATE:20240114
DTSTAMP:20260419T231654
CREATED:20231207T195641Z
LAST-MODIFIED:20231207T195641Z
UID:172406-1703116800-1705190399@www.romasposa.com
SUMMARY:Adam Zohar
DESCRIPTION:
URL:https://www.romasposa.com/event/adam-zohar/
END:VEVENT
BEGIN:VEVENT
DTSTART;VALUE=DATE:20231206
DTEND;VALUE=DATE:20231217
DTSTAMP:20260419T231654
CREATED:20231207T195614Z
LAST-MODIFIED:20231207T195614Z
UID:172404-1701820800-1702771199@www.romasposa.com
SUMMARY:Estes Couture
DESCRIPTION:
URL:https://www.romasposa.com/event/estes-couture/
END:VEVENT
BEGIN:VEVENT
DTSTART;VALUE=DATE:20231116
DTEND;VALUE=DATE:20231126
DTSTAMP:20260419T231654
CREATED:20231023T223816Z
LAST-MODIFIED:20231023T223816Z
UID:172400-1700092800-1700956799@www.romasposa.com
SUMMARY:Maria Farbinni
DESCRIPTION:
URL:https://www.romasposa.com/event/maria-farbinni-3/
END:VEVENT
BEGIN:VEVENT
DTSTART;VALUE=DATE:20231102
DTEND;VALUE=DATE:20231112
DTSTAMP:20260419T231654
CREATED:20231023T223749Z
LAST-MODIFIED:20231023T223749Z
UID:172397-1698883200-1699747199@www.romasposa.com
SUMMARY:Yolan Cris
DESCRIPTION:
URL:https://www.romasposa.com/event/yolan-cris/
END:VEVENT
BEGIN:VEVENT
DTSTART;VALUE=DATE:20231102
DTEND;VALUE=DATE:20231105
DTSTAMP:20260419T231654
CREATED:20231023T223725Z
LAST-MODIFIED:20231023T223725Z
UID:172394-1698883200-1699142399@www.romasposa.com
SUMMARY:Viktor and Rolf
DESCRIPTION:
URL:https://www.romasposa.com/event/viktor-and-rolf/
END:VEVENT
BEGIN:VEVENT
DTSTART;VALUE=DATE:20231026
DTEND;VALUE=DATE:20231029
DTSTAMP:20260419T231654
CREATED:20231023T223654Z
LAST-MODIFIED:20231023T223654Z
UID:172391-1698278400-1698537599@www.romasposa.com
SUMMARY:Maria Elena Headpieces
DESCRIPTION:
URL:https://www.romasposa.com/event/maria-elena-headpieces/
END:VEVENT
BEGIN:VEVENT
DTSTART;VALUE=DATE:20231019
DTEND;VALUE=DATE:20231029
DTSTAMP:20260419T231654
CREATED:20231017T181206Z
LAST-MODIFIED:20231017T181206Z
UID:172388-1697673600-1698537599@www.romasposa.com
SUMMARY:Ines Di Santo
DESCRIPTION:
URL:https://www.romasposa.com/event/ines-di-santo-2/
END:VEVENT
BEGIN:VEVENT
DTSTART;VALUE=DATE:20230929
DTEND;VALUE=DATE:20231009
DTSTAMP:20260419T231654
CREATED:20230926T194556Z
LAST-MODIFIED:20230926T194556Z
UID:172384-1695945600-1696809599@www.romasposa.com
SUMMARY:Saiid Kobeisy
DESCRIPTION:
URL:https://www.romasposa.com/event/saiid-kobeisy/
END:VEVENT
BEGIN:VEVENT
DTSTART;VALUE=DATE:20230921
DTEND;VALUE=DATE:20230924
DTSTAMP:20260419T231654
CREATED:20230906T183737Z
LAST-MODIFIED:20230906T183737Z
UID:172378-1695254400-1695513599@www.romasposa.com
SUMMARY:Galia Lahav Spring 2024
DESCRIPTION:
URL:https://www.romasposa.com/event/galia-lahav-spring-2024/
END:VEVENT
BEGIN:VEVENT
DTSTART;VALUE=DATE:20230907
DTEND;VALUE=DATE:20230917
DTSTAMP:20260419T231654
CREATED:20230906T183648Z
LAST-MODIFIED:20230906T183648Z
UID:172376-1694044800-1694908799@www.romasposa.com
SUMMARY:Romona Keveza
DESCRIPTION:
URL:https://www.romasposa.com/event/romona-keveza-2/
END:VEVENT
BEGIN:VEVENT
DTSTART;VALUE=DATE:20230829
DTEND;VALUE=DATE:20230903
DTSTAMP:20260419T231654
CREATED:20230731T230711Z
LAST-MODIFIED:20230731T230711Z
UID:172361-1693267200-1693699199@www.romasposa.com
SUMMARY:Rami Al Ali
DESCRIPTION:
URL:https://www.romasposa.com/event/rami-al-ali/
END:VEVENT
BEGIN:VEVENT
DTSTART;VALUE=DATE:20230817
DTEND;VALUE=DATE:20230827
DTSTAMP:20260419T231654
CREATED:20230814T221400Z
LAST-MODIFIED:20230814T221400Z
UID:172368-1692230400-1693094399@www.romasposa.com
SUMMARY:Ines Di Santo Fall 2023
DESCRIPTION:
URL:https://www.romasposa.com/event/ines-di-santo-fall-2023/
END:VEVENT
BEGIN:VEVENT
DTSTART;VALUE=DATE:20230804
DTEND;VALUE=DATE:20230810
DTSTAMP:20260419T231654
CREATED:20230803T192056Z
LAST-MODIFIED:20230803T192056Z
UID:172364-1691107200-1691625599@www.romasposa.com
SUMMARY:Amsale
DESCRIPTION:
URL:https://www.romasposa.com/event/amsale/
END:VEVENT
BEGIN:VEVENT
DTSTART;VALUE=DATE:20230803
DTEND;VALUE=DATE:20230813
DTSTAMP:20260419T231654
CREATED:20230731T230207Z
LAST-MODIFIED:20230731T230207Z
UID:172359-1691020800-1691884799@www.romasposa.com
SUMMARY:Inbal Dror
DESCRIPTION:
URL:https://www.romasposa.com/event/inbal-dror-2/
END:VEVENT
BEGIN:VEVENT
DTSTART;VALUE=DATE:20230727
DTEND;VALUE=DATE:20230730
DTSTAMP:20260419T231654
CREATED:20230727T155241Z
LAST-MODIFIED:20230727T155241Z
UID:172349-1690416000-1690675199@www.romasposa.com
SUMMARY:Galia Lahav
DESCRIPTION:
URL:https://www.romasposa.com/event/galia-lahav-3/
END:VEVENT
BEGIN:VEVENT
DTSTART;VALUE=DATE:20230720
DTEND;VALUE=DATE:20230721
DTSTAMP:20260419T231654
CREATED:20230707T201037Z
LAST-MODIFIED:20230707T201037Z
UID:172341-1689811200-1689897599@www.romasposa.com
SUMMARY:Galia Lahav
DESCRIPTION:
URL:https://www.romasposa.com/event/galia-lahav-2/
END:VEVENT
BEGIN:VEVENT
DTSTART;VALUE=DATE:20230706
DTEND;VALUE=DATE:20230716
DTSTAMP:20260419T231654
CREATED:20230707T200950Z
LAST-MODIFIED:20230707T200950Z
UID:172339-1688601600-1689465599@www.romasposa.com
SUMMARY:Amsale Bridal/Evening
DESCRIPTION:
URL:https://www.romasposa.com/event/amsale-bridal-evening/
END:VEVENT
BEGIN:VEVENT
DTSTART;VALUE=DATE:20230629
DTEND;VALUE=DATE:20230709
DTSTAMP:20260419T231654
CREATED:20230519T202405Z
LAST-MODIFIED:20230519T202405Z
UID:172225-1687996800-1688860799@www.romasposa.com
SUMMARY:Romona keveza
DESCRIPTION:
URL:https://www.romasposa.com/event/romona-keveza/
END:VEVENT
BEGIN:VEVENT
DTSTART;VALUE=DATE:20230609
DTEND;VALUE=DATE:20230619
DTSTAMP:20260419T231655
CREATED:20230607T232813Z
LAST-MODIFIED:20230607T232813Z
UID:172275-1686268800-1687132799@www.romasposa.com
SUMMARY:Enura
DESCRIPTION:
URL:https://www.romasposa.com/event/enura/
END:VEVENT
END:VCALENDAR