BEGIN:VCALENDAR
VERSION:2.0
PRODID:-//Roma Sposa Bridal Shop - ECPv6.15.13//NONSGML v1.0//EN
CALSCALE:GREGORIAN
METHOD:PUBLISH
X-WR-CALNAME:Roma Sposa Bridal Shop
X-ORIGINAL-URL:https://www.romasposa.com
X-WR-CALDESC:Events for Roma Sposa Bridal Shop
REFRESH-INTERVAL;VALUE=DURATION:PT1H
X-Robots-Tag:noindex
X-PUBLISHED-TTL:PT1H
BEGIN:VTIMEZONE
TZID:America/Los_Angeles
BEGIN:DAYLIGHT
TZOFFSETFROM:-0800
TZOFFSETTO:-0700
TZNAME:PDT
DTSTART:20240310T100000
END:DAYLIGHT
BEGIN:STANDARD
TZOFFSETFROM:-0700
TZOFFSETTO:-0800
TZNAME:PST
DTSTART:20241103T090000
END:STANDARD
BEGIN:DAYLIGHT
TZOFFSETFROM:-0800
TZOFFSETTO:-0700
TZNAME:PDT
DTSTART:20250309T100000
END:DAYLIGHT
BEGIN:STANDARD
TZOFFSETFROM:-0700
TZOFFSETTO:-0800
TZNAME:PST
DTSTART:20251102T090000
END:STANDARD
BEGIN:DAYLIGHT
TZOFFSETFROM:-0800
TZOFFSETTO:-0700
TZNAME:PDT
DTSTART:20260308T100000
END:DAYLIGHT
BEGIN:STANDARD
TZOFFSETFROM:-0700
TZOFFSETTO:-0800
TZNAME:PST
DTSTART:20261101T090000
END:STANDARD
END:VTIMEZONE
BEGIN:VEVENT
DTSTART;VALUE=DATE:20251106
DTEND;VALUE=DATE:20251109
DTSTAMP:20260419T212833
CREATED:20250828T182808Z
LAST-MODIFIED:20250828T182808Z
UID:173872-1762387200-1762646399@www.romasposa.com
SUMMARY:Galia Lahav SS26 Collections Kiss & Tell and Don't Tell Trunk Show
DESCRIPTION:Galia Lahav presents “KISS & TELL\,” a couture collection where mystery meets revelation.  It redefines bridal seduction with corseted silhouettes\, intricate guipure lace\, and bold\, statement-making details. Blending vintage romance with modern edge\, each gown is a whispered secret. \n  \n \nGalia Lahav presents “DON’T TELL\,“ a GALA collection inspired by the underground allure of 1920s speakeasies. It celebrates rebellion\, freedom\, and unapologetic glamour. With Art Deco influences\, seductive silhouettes\, and playful embellishments\, these gowns embody confidence\, mystery\, and the thrill of breaking the rules.
URL:https://www.romasposa.com/event/galia-lahav-ss26-collections-kiss-tell-and-dont-tell-trunk-show/
END:VEVENT
BEGIN:VEVENT
DTSTART;VALUE=DATE:20251030
DTEND;VALUE=DATE:20251109
DTSTAMP:20260419T212833
CREATED:20250828T181708Z
LAST-MODIFIED:20250828T181708Z
UID:173869-1761782400-1762646399@www.romasposa.com
SUMMARY:Maria Elena Headpieces and Accessories Trunk Show
DESCRIPTION:Your Next Family Heirloom \n\nThe history of Maria Elena Headpieces is not just the story of a business\, but the story of a family. Over a decade ago\, Maria Elena created her very first headpiece as a mother’s gift to her daughter Marile to wear on her wedding day. This headpiece was not just an accessory\, but was and is a precious family heirloom that will be passed down through the generations of their family. \nToday\, Maria Elena and Marile wish to share this gift with brides everywhere to sell you headpieces that were created with the same love and commitment that Maria Elena had when she created Marile’s bridal headpiece\, and to provide you with the beautiful design\, excellent quality and unsurpassed customer service that we are committed to at Maria Elena Headpieces.
URL:https://www.romasposa.com/event/maria-elena-headpieces-and-accessories-trunk-show/
END:VEVENT
BEGIN:VEVENT
DTSTART;VALUE=DATE:20251023
DTEND;VALUE=DATE:20251102
DTSTAMP:20260419T212833
CREATED:20251022T145254Z
LAST-MODIFIED:20251031T163227Z
UID:174150-1761177600-1762041599@www.romasposa.com
SUMMARY:Maria Farbinni FW26 Luce Bianca Collection Trunk Show
DESCRIPTION:Maria Farbinni FW26 collection from the New York Bridal Market runways to Roma Sposa! Meet the designer Oksana Farbatyuk Oct. 31-Nov.1st!
URL:https://www.romasposa.com/event/maria-farbinni-fw26-collection-trunk-show/
END:VEVENT
BEGIN:VEVENT
DTSTART;VALUE=DATE:20251018
DTEND;VALUE=DATE:20251027
DTSTAMP:20260419T212833
CREATED:20250828T181230Z
LAST-MODIFIED:20251010T223336Z
UID:173865-1760745600-1761523199@www.romasposa.com
SUMMARY:Tony Ward Couture La Mariee Fall 2026 Collection Debut Trunk Show
DESCRIPTION:Join us for the first trunk show of Tony Ward’s La Mariee Fall 2026 Bridal Collection straight from its debut at the New York Bridal Market. \n \nTony Ward Couture is a Fashion House that shows at the Paris Fashion Week. The designer\, who graduated from L’École de la Chambre Syndicale de la Couture Parisienne\, deepened his knowledge of Couture techniques at Dior\, Chloé\, and Lanvin for seven years in Paris before creating his own label. \nTony Ward transformed his family’s couture house\, established by his father in 1952\, into an international brand. He creates collections that combine innovation and masterful cuts and lines. His creations attract members of Royal Families\, Celebrities\, and high-end international stores. \nAptly named ¨The Architect of Detail¨\, he draws his inspiration from contemporary Architecture\, which helps him envision sculptural forms\, create innovative techniques and play with the boundaries of light and transparency.
URL:https://www.romasposa.com/event/tony-ward-couture-la-mariee-fall-2026-collection-debut-trunk-show/
END:VEVENT
BEGIN:VEVENT
DTSTART;VALUE=DATE:20251007
DTEND;VALUE=DATE:20251012
DTSTAMP:20260419T212833
CREATED:20251004T160758Z
LAST-MODIFIED:20251004T174706Z
UID:174144-1759795200-1760227199@www.romasposa.com
SUMMARY:Pre-Fall Bridal & Evening Sale- Up to 50% Off
DESCRIPTION:Join us for the week of 10/7-10/11 for a bridal and evening sale with select gowns up to 50% off.
URL:https://www.romasposa.com/event/pre-fall-bridal-evening-sale-up-to-50-off/
END:VEVENT
BEGIN:VEVENT
DTSTART;VALUE=DATE:20251003
DTEND;VALUE=DATE:20251019
DTSTAMP:20260419T212833
CREATED:20250828T180128Z
LAST-MODIFIED:20250926T152919Z
UID:173861-1759449600-1760831999@www.romasposa.com
SUMMARY:JoliPoli Couture Bridal and Evening Trunk Show
DESCRIPTION:Today\, JoliPoli is a globally recognized fashion house\, with over 30 distributors worldwide. Its reputation for elegance and precision has earned the trust of an elite clientele\, including international celebrities\, esteemed beauty queens\, influential families\, and prominent political figures. Anh Thư’s vision continues to position JoliPoli as a beacon of sophistication in the world of haute couture\, redefining beauty and luxury one design at a time.
URL:https://www.romasposa.com/event/jolipoli-couture-bridal-and-evening-trunk-show/
END:VEVENT
BEGIN:VEVENT
DTSTART;VALUE=DATE:20250909
DTEND;VALUE=DATE:20250928
DTSTAMP:20260419T212833
CREATED:20250829T164221Z
LAST-MODIFIED:20250829T164221Z
UID:173890-1757376000-1759017599@www.romasposa.com
SUMMARY:Adam Zohar Bridal Trunk Show
DESCRIPTION:Adam is an innovative international designer and leader in bridal and evening wear that exudes femininity and elegance. The use of unexpected materials\, remarkable creativity\, plentiful designs\, and unconventional cuts\, along with a close attention to every detail. \n“For me\, every bride is a world in and of itself. Every bride comes with one dream\, that on the happiest day of her life someone will be there to make her unique fantasy a reality. The shared and personal process is what inspires me to give every dress its special qualities\, highlighting every bride personally. This is why every dress that comes out of my studio is unique and full of inspiration.” – Adam Zohar
URL:https://www.romasposa.com/event/adam-zohar-bridal-trunk-show/
END:VEVENT
BEGIN:VEVENT
DTSTART;VALUE=DATE:20250904
DTEND;VALUE=DATE:20250914
DTSTAMP:20260419T212833
CREATED:20250828T173737Z
LAST-MODIFIED:20250828T173737Z
UID:173851-1756944000-1757807999@www.romasposa.com
SUMMARY:Maria Farbinni I Fiori di Sogno Trunk Show
DESCRIPTION:
URL:https://www.romasposa.com/event/maria-farbinni-i-fiori-di-sogno-trunk-show-3/
END:VEVENT
BEGIN:VEVENT
DTSTART;VALUE=DATE:20250829
DTEND;VALUE=DATE:20251001
DTSTAMP:20260419T212833
CREATED:20250828T174952Z
LAST-MODIFIED:20250828T174952Z
UID:173853-1756425600-1759276799@www.romasposa.com
SUMMARY:Yolancris Evening Trunk Show
DESCRIPTION:Yolancris is a Spanish brand specializing in the artisanal design and craftsmanship of evening and bridal gowns. \nIn 2005\, sisters Yolanda (1978) and Cristina Pérez (1979) founded Yolancris as a step forward from the family business of bridal gown production that their mother—a pioneering\, visionary\, and entrepreneurial woman—had established in 1985. This was how Yolanda and Cristina began their journey into the world of dressmaking. From their observation and experience\, an idea was born: to revolutionize the bridal fashion and couture world by offering handcrafted designs that transcended the traditional bridal cliché. \nYolancris has a team of master seamstresses and artisans who have been with the brand since its inception. These skilled hands not only create but also pass on their expertise\, as Yolancris is committed to quality and meticulous local craftsmanship. The concept of “handmade” is more than just a phrase; it is a reality and the house’s philosophy.
URL:https://www.romasposa.com/event/yolancris-evening-trunk-show/
END:VEVENT
BEGIN:VEVENT
DTSTART;VALUE=DATE:20250828
DTEND;VALUE=DATE:20250921
DTSTAMP:20260419T212833
CREATED:20250828T172829Z
LAST-MODIFIED:20250829T173458Z
UID:173835-1756339200-1758412799@www.romasposa.com
SUMMARY:Wang Feng-Exclusive Bridal and Evening Couture Collections
DESCRIPTION:Wang Feng Bridal is a luxury bespoke women’s fashion brand founded by designer Wang Feng and his brother. Featuring a renewed line of bridal gowns and haute couture dresses. \nSince its inception\, Wang Feng has consistently used only the finest materials\, selecting top-grade fabrics imported from France and Italy for its luxury wedding dresses and bridal gowns. Through generations of artisanal craftsmanship\, the design ideas—whether whimsical\, refined\, or delicately beautiful—are fully expressed\, enhancing the feminine form.
URL:https://www.romasposa.com/event/wang-feng-bridal-and-evening-couture-collections/
END:VEVENT
BEGIN:VEVENT
DTSTART;VALUE=DATE:20250821
DTEND;VALUE=DATE:20250824
DTSTAMP:20260419T212833
CREATED:20250828T170526Z
LAST-MODIFIED:20250828T170526Z
UID:173833-1755734400-1755993599@www.romasposa.com
SUMMARY:Galia Lahav Suivez-Moi and Reverie Bridal Collections Trunk Show
DESCRIPTION:
URL:https://www.romasposa.com/event/galia-lahav-suivez-moi-and-reverie-bridal-collections-trunk-show-2/
END:VEVENT
BEGIN:VEVENT
DTSTART;VALUE=DATE:20250613
DTEND;VALUE=DATE:20250622
DTSTAMP:20260419T212833
CREATED:20250608T184718Z
LAST-MODIFIED:20250608T184718Z
UID:173822-1749772800-1750550399@www.romasposa.com
SUMMARY:Romona Keveza Bridal & Legends 2025 Collections Trunk Show
DESCRIPTION:
URL:https://www.romasposa.com/event/romona-keveza-bridal-legends-2025-collections-trunk-show/
END:VEVENT
BEGIN:VEVENT
DTSTART;VALUE=DATE:20250605
DTEND;VALUE=DATE:20250615
DTSTAMP:20260419T212833
CREATED:20250507T210741Z
LAST-MODIFIED:20250608T183442Z
UID:173814-1749081600-1749945599@www.romasposa.com
SUMMARY:Maria Farbinni I Fiori di Sogno Trunk Show
DESCRIPTION:
URL:https://www.romasposa.com/event/maria-farbinni-i-fiori-di-sogno-trunk-show-2/
END:VEVENT
BEGIN:VEVENT
DTSTART;VALUE=DATE:20250529
DTEND;VALUE=DATE:20250601
DTSTAMP:20260419T212833
CREATED:20250828T170423Z
LAST-MODIFIED:20250828T170423Z
UID:173831-1748476800-1748735999@www.romasposa.com
SUMMARY:Galia Lahav Suivez-Moi and Reverie Bridal Collections Trunk Show
DESCRIPTION:
URL:https://www.romasposa.com/event/galia-lahav-suivez-moi-and-reverie-bridal-collections-trunk-show/
END:VEVENT
BEGIN:VEVENT
DTSTART;VALUE=DATE:20250529
DTEND;VALUE=DATE:20250601
DTSTAMP:20260419T212833
CREATED:20250507T210437Z
LAST-MODIFIED:20250507T210437Z
UID:173810-1748476800-1748735999@www.romasposa.com
SUMMARY:Galia Lahav Suivez-Moi and GALA Reverie Trunk Show Fall 25
DESCRIPTION:Galia Lahav unveils Suivez-Moi\, a haute couture bridal collection honoring Rose Bertin\, Marie Antoinette’s famed dressmaker. Designed by Galia Lahav and Sharon Sever\, it reimagines Rococo grandeur with a modern twist\, inviting brides to lead\, not follow. \n \nGALA Reverie: A captivating new chapter in bridal fashion\, designed by the visionary duo Galia Lahav & Sharon Sever. This collection redefines modern bridal elegance with a youthful\, fresh twist\, perfectly suited for the trend-setting Gen-Z bride.
URL:https://www.romasposa.com/event/galia-lahav-suivez-moi-and-gala-reverie-trunk-show-fall-25/
END:VEVENT
BEGIN:VEVENT
DTSTART;VALUE=DATE:20250515
DTEND;VALUE=DATE:20250518
DTSTAMP:20260419T212833
CREATED:20250828T170240Z
LAST-MODIFIED:20250828T170240Z
UID:173829-1747267200-1747526399@www.romasposa.com
SUMMARY:Maria Elena Headpiece and Accessories Trunk Show
DESCRIPTION:
URL:https://www.romasposa.com/event/maria-elena-headpiece-and-accessories-trunk-show/
END:VEVENT
BEGIN:VEVENT
DTSTART;VALUE=DATE:20250515
DTEND;VALUE=DATE:20250518
DTSTAMP:20260419T212833
CREATED:20250507T210038Z
LAST-MODIFIED:20250507T210038Z
UID:173807-1747267200-1747526399@www.romasposa.com
SUMMARY:Maria Elena Headpieces & Accessories Trunk Show
DESCRIPTION:
URL:https://www.romasposa.com/event/maria-elena-headpieces-accessories-trunk-show-2/
END:VEVENT
BEGIN:VEVENT
DTSTART;VALUE=DATE:20250423
DTEND;VALUE=DATE:20250427
DTSTAMP:20260419T212833
CREATED:20250828T170139Z
LAST-MODIFIED:20250828T170139Z
UID:173827-1745366400-1745711999@www.romasposa.com
SUMMARY:Romona Keveza Bridal Trunk Show
DESCRIPTION:
URL:https://www.romasposa.com/event/romona-keveza-bridal-trunk-show/
END:VEVENT
BEGIN:VEVENT
DTSTART;VALUE=DATE:20250410
DTEND;VALUE=DATE:20250420
DTSTAMP:20260419T212833
CREATED:20250321T214658Z
LAST-MODIFIED:20250321T214658Z
UID:173527-1744243200-1745107199@www.romasposa.com
SUMMARY:Viktor & Rolf FW25 Mariage Bridal Collection Trunk Show
DESCRIPTION:For Fall/Winter 2025\, Viktor&Rolf unveil their latest Mariage collection\, a fusion of modern elegance and avant-garde designs. Staying true to their iconic aesthetic\, the collection is defined by bold bow accents\, intricate floral embroidery\, and ethereal organza textures. Each piece is meticulously crafted from luxurious fabrics such as mikado\, jacquard\, and charmeuse satin\, offering a diverse array of silhouettes—from voluminous ballgowns and sleek mermaid styles to their signature jumpsuit and chic mini dress. \nThe standouts of this season include the ‘Bustled Border High-Low’\, featuring a high-low silhouette complemented by bustled ruffles adorning the hem which continue around the dramatic train. The ‘Flowerbomb Ribbon Ballgown’ features a dramatic shoulder strap with a ribbon bow drape that flows into a dreamy\, voluminous tulle skirt\, offering a structured yet elegant look. \nDrawing inspiration from Viktor&Rolf’s 2005 ‘Flowerbomb’ collection\, the signature ribbon bow drapes are a defining feature throughout the designs. The ‘Floral Gardens’ gowns are adorned with shimmering floral pailettes\, while handcrafted flowers and foliage add detailed embellishments to the structured\, elegant silhouettes. \nThis collection is produced in partnership with Justin Alexander\, an esteemed international bridalwear designer and manufacturer.
URL:https://www.romasposa.com/event/viktor-rolf-fw25-mariage-bridal-collection-trunk-show/
END:VEVENT
BEGIN:VEVENT
DTSTART;VALUE=DATE:20250328
DTEND;VALUE=DATE:20250413
DTSTAMP:20260419T212833
CREATED:20250320T170344Z
LAST-MODIFIED:20250320T170344Z
UID:173525-1743120000-1744502399@www.romasposa.com
SUMMARY:Peter Langner- Evening Wear Trunk Show
DESCRIPTION:Peter Langner’s evening universe represents the essence of fine tailoring and timeless elegance. \nOur eveningwear collections combine fine fabrics\, impeccable style and the highest attention to detail to create unique and timeless masterpieces. \nEach gown is a celebration of elegance\, designed for special events and crafted with artisan care that reflects the highest quality and made in Italy. \nFrom fine fabrics to sophisticated cuts\, each gown in our evening collections is an expression of elegance and sartorial mastery\, designed to make every woman feel unique and unforgettable on the most special occasions.
URL:https://www.romasposa.com/event/peter-langner-evening-wear-trunk-show-2/
END:VEVENT
BEGIN:VEVENT
DTSTART;VALUE=DATE:20250325
DTEND;VALUE=DATE:20250328
DTSTAMP:20260419T212833
CREATED:20250320T163114Z
LAST-MODIFIED:20250320T163114Z
UID:173522-1742860800-1743119999@www.romasposa.com
SUMMARY:Eliza Jane Howell- Evening Wear Trunk Show
DESCRIPTION:Eliza Jane Howell is now known around the world for fabulous design and construction. Every gown is hand beaded and individually made combining traditional and modern beading techniques and patterns to create something very special \nEach dress celebrates evocative silhouettes and shapes that give the gown a sense of vintage style but with a modern twist and details that take each design to a whole new level \nAn Eliza Jane Howell dress is new and exciting\, and comes with a real sense of history. Its our blend of ancient techniques and new ideas that make the perfect gown.
URL:https://www.romasposa.com/event/eliza-jane-howell-evening-wear-trunk-show/
END:VEVENT
BEGIN:VEVENT
DTSTART;VALUE=DATE:20250317
DTEND;VALUE=DATE:20250323
DTSTAMP:20260419T212833
CREATED:20250205T232546Z
LAST-MODIFIED:20250222T184504Z
UID:173508-1742169600-1742687999@www.romasposa.com
SUMMARY:Tony Ward La Mariee FW25 Trunk Show
DESCRIPTION:
URL:https://www.romasposa.com/event/tony-ward-la-mariee-fw25-trunk-show/
END:VEVENT
BEGIN:VEVENT
DTSTART;VALUE=DATE:20250307
DTEND;VALUE=DATE:20250317
DTSTAMP:20260419T212833
CREATED:20250205T232153Z
LAST-MODIFIED:20250222T185342Z
UID:173506-1741305600-1742169599@www.romasposa.com
SUMMARY:The Stunners 2025 Collection: Galia Lahav Trunk Show
DESCRIPTION:
URL:https://www.romasposa.com/event/best-of-galia-lahav-trunk-show/
END:VEVENT
BEGIN:VEVENT
DTSTART;VALUE=DATE:20250306
DTEND;VALUE=DATE:20250307
DTSTAMP:20260419T212833
CREATED:20250219T183048Z
LAST-MODIFIED:20250219T183048Z
UID:173513-1741219200-1741305599@www.romasposa.com
SUMMARY:Best of Monique Lhuillier
DESCRIPTION:
URL:https://www.romasposa.com/event/best-of-monique-lhuillier/
END:VEVENT
BEGIN:VEVENT
DTSTART;VALUE=DATE:20250227
DTEND;VALUE=DATE:20250323
DTSTAMP:20260419T212833
CREATED:20250129T182509Z
LAST-MODIFIED:20250218T201403Z
UID:173479-1740614400-1742687999@www.romasposa.com
SUMMARY:Serge Jevaguine Bridal & Evening Trunk Show
DESCRIPTION:Serge Jevaguine is where wedding dreams are brought to life through the creation of exquisite couture dresses. Established in 2018 by Larissa\, the creative director\, and Serge Jevaguine\, the CEO\, this family-owned company embodies elegance\, creativity\, and unparalleled craftsmanship. With Larissa’s extensive 30 years of experience in the industry\, refined through collaborations with prestigious fashion houses and studies in Europe\, the company brings a legacy of expertise to every garment. At Serge Jevaguine\, pride is taken in the crafting of bespoke wedding gowns that are unique works of art\, utilizing only the finest European fabrics and luxury materials.
URL:https://www.romasposa.com/event/serge-jevaguine-bridal-evening-trunk-show/
END:VEVENT
BEGIN:VEVENT
DTSTART;VALUE=DATE:20250227
DTEND;VALUE=DATE:20250309
DTSTAMP:20260419T212833
CREATED:20241101T231705Z
LAST-MODIFIED:20250222T184627Z
UID:173400-1740614400-1741478399@www.romasposa.com
SUMMARY:Love by Pnina Tornai Bridal Trunk Show
DESCRIPTION:I created my very first Love by Pnina Tornai collection as a way to share my love with brides all over the world\, allowing more brides the opportunity to wear their dream Pnina dress. Now\, with my new collection\, I am finally bringing my gowns to bridal salons across the United States\, making it even easier for my brides to say “yes” to one of my dresses! \nI designed this collection to make every bride look and feel her best— that’s why I do what I do!\nLove\,
URL:https://www.romasposa.com/event/pnina-tornai-trunk-show/
END:VEVENT
BEGIN:VEVENT
DTSTART;VALUE=DATE:20250220
DTEND;VALUE=DATE:20250302
DTSTAMP:20260419T212833
CREATED:20250129T183414Z
LAST-MODIFIED:20250205T232801Z
UID:173481-1740009600-1740873599@www.romasposa.com
SUMMARY:Maria Farbinni I Fiori di Sogno Trunk Show
DESCRIPTION:The creative genius behind Maria Farbinni\, Oksana Farbatyuk is an internationally known wedding dress designer with a keen eye for detail and a flair for combining modern\, inventive ideas with classic bridal touches. With great passion for her work\, she can often be found at her studio in NY sketching or planning her next masterpiece whenever inspiration strikes. Sometimes the very fabric she is working with sparks an idea\, and the resulting gown can be anything from an airy and delicate fairytale confection to a study in elegant minimalism. \nA master of the contemporary classic look\, Oksana designs her distinctive dresses with stunning silhouettes and romantic details. Demure yet sexy\, with ultrafeminine touches and gorgeous draping\, every gown evinces a modern interpretation of a timeless look that will never go out of fashion. From exquisite hand-embroidered lace appliques to her daring signature deep-v sweetheart necklines\, collections designed by Oksana offer a gorgeous way to make your bridal fashion dreams come true. Thoughtful design details like sparkling hand-beaded belts\, eye-catching open backs\, and flattering illusion sleeves add to the appeal of each dress\, and provide a wonderful variety of options to suit any style.
URL:https://www.romasposa.com/event/maria-farbinni-i-fiori-di-sogno-trunk-show/
END:VEVENT
BEGIN:VEVENT
DTSTART;VALUE=DATE:20250207
DTEND;VALUE=DATE:20250224
DTSTAMP:20260419T212833
CREATED:20250204T185120Z
LAST-MODIFIED:20250204T185308Z
UID:173501-1738886400-1740355199@www.romasposa.com
SUMMARY:Shiran Abergel Fleurs D'Amour Trunk Show
DESCRIPTION:SHIRAN ABERGEL boutique\, a leading couture fashion house in Israel that has been operating for over 22 years\, the studio has 35 seamstresses and another 10 seamstresses who perform sewing and designing by hand. Our boutique produces a unique collection thinking about the little ones\, using luxurious fabrics and meticulous sewing techniques.\nWhat sets us apart is the technique and the ability to precisely adjust to the body measurements and style of the wearer.\nWe are happy to be part of your unforgettable moment and make it especially amazing.
URL:https://www.romasposa.com/event/fleurs-damour-fw-2025-collection-trunk-show-shiran-abergel/
END:VEVENT
BEGIN:VEVENT
DTSTART;VALUE=DATE:20250130
DTEND;VALUE=DATE:20250301
DTSTAMP:20260419T212833
CREATED:20250129T182234Z
LAST-MODIFIED:20250129T182234Z
UID:173476-1738195200-1740787199@www.romasposa.com
SUMMARY:Savage & Hunt Bridal Trunk Show
DESCRIPTION:Savage & Hunt Bridal represents romantic\, elegant and timeless style inspired by each bride’s unique beauty and personality. \n We design bespoke wedding dresses using luxurious fabrics\, hand-sewn embroideries and beautifully crafted laces.  Each production component\, from the first sketch to the final stitch represents our commitment to the highest quality and craftsmanship in dressmaking.  It is our privilege to make this very special contribution to such a memorable occasion\, a day to be treasured for a lifetime.
URL:https://www.romasposa.com/event/savage-hunt-bridal-trunk-show/
END:VEVENT
BEGIN:VEVENT
DTSTART;VALUE=DATE:20250124
DTEND;VALUE=DATE:20250202
DTSTAMP:20260419T212833
CREATED:20241101T231622Z
LAST-MODIFIED:20250129T182009Z
UID:173398-1737676800-1738454399@www.romasposa.com
SUMMARY:Marmar Halim Trunk Show
DESCRIPTION:
URL:https://www.romasposa.com/event/marmar-halim-trunk-show/
END:VEVENT
END:VCALENDAR