BEGIN:VCALENDAR
VERSION:2.0
PRODID:-//Roma Sposa Bridal Shop - ECPv6.15.13//NONSGML v1.0//EN
CALSCALE:GREGORIAN
METHOD:PUBLISH
X-WR-CALNAME:Roma Sposa Bridal Shop
X-ORIGINAL-URL:https://www.romasposa.com
X-WR-CALDESC:Events for Roma Sposa Bridal Shop
REFRESH-INTERVAL;VALUE=DURATION:PT1H
X-Robots-Tag:noindex
X-PUBLISHED-TTL:PT1H
BEGIN:VTIMEZONE
TZID:America/Los_Angeles
BEGIN:DAYLIGHT
TZOFFSETFROM:-0800
TZOFFSETTO:-0700
TZNAME:PDT
DTSTART:20240310T100000
END:DAYLIGHT
BEGIN:STANDARD
TZOFFSETFROM:-0700
TZOFFSETTO:-0800
TZNAME:PST
DTSTART:20241103T090000
END:STANDARD
BEGIN:DAYLIGHT
TZOFFSETFROM:-0800
TZOFFSETTO:-0700
TZNAME:PDT
DTSTART:20250309T100000
END:DAYLIGHT
BEGIN:STANDARD
TZOFFSETFROM:-0700
TZOFFSETTO:-0800
TZNAME:PST
DTSTART:20251102T090000
END:STANDARD
BEGIN:DAYLIGHT
TZOFFSETFROM:-0800
TZOFFSETTO:-0700
TZNAME:PDT
DTSTART:20260308T100000
END:DAYLIGHT
BEGIN:STANDARD
TZOFFSETFROM:-0700
TZOFFSETTO:-0800
TZNAME:PST
DTSTART:20261101T090000
END:STANDARD
END:VTIMEZONE
BEGIN:VEVENT
DTSTART;VALUE=DATE:20251111
DTEND;VALUE=DATE:20251116
DTSTAMP:20260419T162631
CREATED:20251031T165000Z
LAST-MODIFIED:20251031T165000Z
UID:174161-1762819200-1763251199@www.romasposa.com
SUMMARY:Rami Al Ali White 8-FW26 Collection Trunk Show
DESCRIPTION:Preview the newest bridal collection White 8 by Rami Al Ali at Roma Sposa.
URL:https://www.romasposa.com/event/rami-al-ali-white-8-fw26-collection-trunk-show/
END:VEVENT
END:VCALENDAR