BEGIN:VCALENDAR
VERSION:2.0
PRODID:-//Roma Sposa Bridal Shop - ECPv6.15.13//NONSGML v1.0//EN
CALSCALE:GREGORIAN
METHOD:PUBLISH
X-ORIGINAL-URL:https://www.romasposa.com
X-WR-CALDESC:Events for Roma Sposa Bridal Shop
REFRESH-INTERVAL;VALUE=DURATION:PT1H
X-Robots-Tag:noindex
X-PUBLISHED-TTL:PT1H
BEGIN:VTIMEZONE
TZID:America/Los_Angeles
BEGIN:DAYLIGHT
TZOFFSETFROM:-0800
TZOFFSETTO:-0700
TZNAME:PDT
DTSTART:20240310T100000
END:DAYLIGHT
BEGIN:STANDARD
TZOFFSETFROM:-0700
TZOFFSETTO:-0800
TZNAME:PST
DTSTART:20241103T090000
END:STANDARD
BEGIN:DAYLIGHT
TZOFFSETFROM:-0800
TZOFFSETTO:-0700
TZNAME:PDT
DTSTART:20250309T100000
END:DAYLIGHT
BEGIN:STANDARD
TZOFFSETFROM:-0700
TZOFFSETTO:-0800
TZNAME:PST
DTSTART:20251102T090000
END:STANDARD
BEGIN:DAYLIGHT
TZOFFSETFROM:-0800
TZOFFSETTO:-0700
TZNAME:PDT
DTSTART:20260308T100000
END:DAYLIGHT
BEGIN:STANDARD
TZOFFSETFROM:-0700
TZOFFSETTO:-0800
TZNAME:PST
DTSTART:20261101T090000
END:STANDARD
END:VTIMEZONE
BEGIN:VEVENT
DTSTART;VALUE=DATE:20251018
DTEND;VALUE=DATE:20251027
DTSTAMP:20260419T194409
CREATED:20250828T181230Z
LAST-MODIFIED:20251010T223336Z
UID:173865-1760745600-1761523199@www.romasposa.com
SUMMARY:Tony Ward Couture La Mariee Fall 2026 Collection Debut Trunk Show
DESCRIPTION:Join us for the first trunk show of Tony Ward’s La Mariee Fall 2026 Bridal Collection straight from its debut at the New York Bridal Market. \n \nTony Ward Couture is a Fashion House that shows at the Paris Fashion Week. The designer\, who graduated from L’École de la Chambre Syndicale de la Couture Parisienne\, deepened his knowledge of Couture techniques at Dior\, Chloé\, and Lanvin for seven years in Paris before creating his own label. \nTony Ward transformed his family’s couture house\, established by his father in 1952\, into an international brand. He creates collections that combine innovation and masterful cuts and lines. His creations attract members of Royal Families\, Celebrities\, and high-end international stores. \nAptly named ¨The Architect of Detail¨\, he draws his inspiration from contemporary Architecture\, which helps him envision sculptural forms\, create innovative techniques and play with the boundaries of light and transparency.
URL:https://www.romasposa.com/event/tony-ward-couture-la-mariee-fall-2026-collection-debut-trunk-show/
END:VEVENT
BEGIN:VEVENT
DTSTART;VALUE=DATE:20251023
DTEND;VALUE=DATE:20251102
DTSTAMP:20260419T194409
CREATED:20251022T145254Z
LAST-MODIFIED:20251031T163227Z
UID:174150-1761177600-1762041599@www.romasposa.com
SUMMARY:Maria Farbinni FW26 Luce Bianca Collection Trunk Show
DESCRIPTION:Maria Farbinni FW26 collection from the New York Bridal Market runways to Roma Sposa! Meet the designer Oksana Farbatyuk Oct. 31-Nov.1st!
URL:https://www.romasposa.com/event/maria-farbinni-fw26-collection-trunk-show/
END:VEVENT
END:VCALENDAR