BEGIN:VCALENDAR
VERSION:2.0
PRODID:-//Roma Sposa Bridal Shop - ECPv6.15.13//NONSGML v1.0//EN
CALSCALE:GREGORIAN
METHOD:PUBLISH
X-ORIGINAL-URL:https://www.romasposa.com
X-WR-CALDESC:Events for Roma Sposa Bridal Shop
REFRESH-INTERVAL;VALUE=DURATION:PT1H
X-Robots-Tag:noindex
X-PUBLISHED-TTL:PT1H
BEGIN:VTIMEZONE
TZID:America/Los_Angeles
BEGIN:DAYLIGHT
TZOFFSETFROM:-0800
TZOFFSETTO:-0700
TZNAME:PDT
DTSTART:20240310T100000
END:DAYLIGHT
BEGIN:STANDARD
TZOFFSETFROM:-0700
TZOFFSETTO:-0800
TZNAME:PST
DTSTART:20241103T090000
END:STANDARD
BEGIN:DAYLIGHT
TZOFFSETFROM:-0800
TZOFFSETTO:-0700
TZNAME:PDT
DTSTART:20250309T100000
END:DAYLIGHT
BEGIN:STANDARD
TZOFFSETFROM:-0700
TZOFFSETTO:-0800
TZNAME:PST
DTSTART:20251102T090000
END:STANDARD
BEGIN:DAYLIGHT
TZOFFSETFROM:-0800
TZOFFSETTO:-0700
TZNAME:PDT
DTSTART:20260308T100000
END:DAYLIGHT
BEGIN:STANDARD
TZOFFSETFROM:-0700
TZOFFSETTO:-0800
TZNAME:PST
DTSTART:20261101T090000
END:STANDARD
END:VTIMEZONE
BEGIN:VEVENT
DTSTART;VALUE=DATE:20250328
DTEND;VALUE=DATE:20250413
DTSTAMP:20260422T003823
CREATED:20250320T170344Z
LAST-MODIFIED:20250320T170344Z
UID:173525-1743120000-1744502399@www.romasposa.com
SUMMARY:Peter Langner- Evening Wear Trunk Show
DESCRIPTION:Peter Langner’s evening universe represents the essence of fine tailoring and timeless elegance. \nOur eveningwear collections combine fine fabrics\, impeccable style and the highest attention to detail to create unique and timeless masterpieces. \nEach gown is a celebration of elegance\, designed for special events and crafted with artisan care that reflects the highest quality and made in Italy. \nFrom fine fabrics to sophisticated cuts\, each gown in our evening collections is an expression of elegance and sartorial mastery\, designed to make every woman feel unique and unforgettable on the most special occasions.
URL:https://www.romasposa.com/event/peter-langner-evening-wear-trunk-show-2/
END:VEVENT
BEGIN:VEVENT
DTSTART;VALUE=DATE:20250410
DTEND;VALUE=DATE:20250420
DTSTAMP:20260422T003823
CREATED:20250321T214658Z
LAST-MODIFIED:20250321T214658Z
UID:173527-1744243200-1745107199@www.romasposa.com
SUMMARY:Viktor & Rolf FW25 Mariage Bridal Collection Trunk Show
DESCRIPTION:For Fall/Winter 2025\, Viktor&Rolf unveil their latest Mariage collection\, a fusion of modern elegance and avant-garde designs. Staying true to their iconic aesthetic\, the collection is defined by bold bow accents\, intricate floral embroidery\, and ethereal organza textures. Each piece is meticulously crafted from luxurious fabrics such as mikado\, jacquard\, and charmeuse satin\, offering a diverse array of silhouettes—from voluminous ballgowns and sleek mermaid styles to their signature jumpsuit and chic mini dress. \nThe standouts of this season include the ‘Bustled Border High-Low’\, featuring a high-low silhouette complemented by bustled ruffles adorning the hem which continue around the dramatic train. The ‘Flowerbomb Ribbon Ballgown’ features a dramatic shoulder strap with a ribbon bow drape that flows into a dreamy\, voluminous tulle skirt\, offering a structured yet elegant look. \nDrawing inspiration from Viktor&Rolf’s 2005 ‘Flowerbomb’ collection\, the signature ribbon bow drapes are a defining feature throughout the designs. The ‘Floral Gardens’ gowns are adorned with shimmering floral pailettes\, while handcrafted flowers and foliage add detailed embellishments to the structured\, elegant silhouettes. \nThis collection is produced in partnership with Justin Alexander\, an esteemed international bridalwear designer and manufacturer.
URL:https://www.romasposa.com/event/viktor-rolf-fw25-mariage-bridal-collection-trunk-show/
END:VEVENT
END:VCALENDAR