BEGIN:VCALENDAR
VERSION:2.0
PRODID:-//Roma Sposa Bridal Shop - ECPv6.15.13//NONSGML v1.0//EN
CALSCALE:GREGORIAN
METHOD:PUBLISH
X-WR-CALNAME:Roma Sposa Bridal Shop
X-ORIGINAL-URL:https://www.romasposa.com
X-WR-CALDESC:Events for Roma Sposa Bridal Shop
REFRESH-INTERVAL;VALUE=DURATION:PT1H
X-Robots-Tag:noindex
X-PUBLISHED-TTL:PT1H
BEGIN:VTIMEZONE
TZID:America/Los_Angeles
BEGIN:DAYLIGHT
TZOFFSETFROM:-0800
TZOFFSETTO:-0700
TZNAME:PDT
DTSTART:20240310T100000
END:DAYLIGHT
BEGIN:STANDARD
TZOFFSETFROM:-0700
TZOFFSETTO:-0800
TZNAME:PST
DTSTART:20241103T090000
END:STANDARD
BEGIN:DAYLIGHT
TZOFFSETFROM:-0800
TZOFFSETTO:-0700
TZNAME:PDT
DTSTART:20250309T100000
END:DAYLIGHT
BEGIN:STANDARD
TZOFFSETFROM:-0700
TZOFFSETTO:-0800
TZNAME:PST
DTSTART:20251102T090000
END:STANDARD
BEGIN:DAYLIGHT
TZOFFSETFROM:-0800
TZOFFSETTO:-0700
TZNAME:PDT
DTSTART:20260308T100000
END:DAYLIGHT
BEGIN:STANDARD
TZOFFSETFROM:-0700
TZOFFSETTO:-0800
TZNAME:PST
DTSTART:20261101T090000
END:STANDARD
END:VTIMEZONE
BEGIN:VEVENT
DTSTART;VALUE=DATE:20250325
DTEND;VALUE=DATE:20250328
DTSTAMP:20260422T021303
CREATED:20250320T163114Z
LAST-MODIFIED:20250320T163114Z
UID:173522-1742860800-1743119999@www.romasposa.com
SUMMARY:Eliza Jane Howell- Evening Wear Trunk Show
DESCRIPTION:Eliza Jane Howell is now known around the world for fabulous design and construction. Every gown is hand beaded and individually made combining traditional and modern beading techniques and patterns to create something very special \nEach dress celebrates evocative silhouettes and shapes that give the gown a sense of vintage style but with a modern twist and details that take each design to a whole new level \nAn Eliza Jane Howell dress is new and exciting\, and comes with a real sense of history. Its our blend of ancient techniques and new ideas that make the perfect gown.
URL:https://www.romasposa.com/event/eliza-jane-howell-evening-wear-trunk-show/
END:VEVENT
END:VCALENDAR