BEGIN:VCALENDAR
VERSION:2.0
PRODID:-//Roma Sposa Bridal Shop - ECPv6.15.13//NONSGML v1.0//EN
CALSCALE:GREGORIAN
METHOD:PUBLISH
X-WR-CALNAME:Roma Sposa Bridal Shop
X-ORIGINAL-URL:https://www.romasposa.com
X-WR-CALDESC:Events for Roma Sposa Bridal Shop
REFRESH-INTERVAL;VALUE=DURATION:PT1H
X-Robots-Tag:noindex
X-PUBLISHED-TTL:PT1H
BEGIN:VTIMEZONE
TZID:America/Los_Angeles
BEGIN:DAYLIGHT
TZOFFSETFROM:-0800
TZOFFSETTO:-0700
TZNAME:PDT
DTSTART:20240310T100000
END:DAYLIGHT
BEGIN:STANDARD
TZOFFSETFROM:-0700
TZOFFSETTO:-0800
TZNAME:PST
DTSTART:20241103T090000
END:STANDARD
BEGIN:DAYLIGHT
TZOFFSETFROM:-0800
TZOFFSETTO:-0700
TZNAME:PDT
DTSTART:20250309T100000
END:DAYLIGHT
BEGIN:STANDARD
TZOFFSETFROM:-0700
TZOFFSETTO:-0800
TZNAME:PST
DTSTART:20251102T090000
END:STANDARD
BEGIN:DAYLIGHT
TZOFFSETFROM:-0800
TZOFFSETTO:-0700
TZNAME:PDT
DTSTART:20260308T100000
END:DAYLIGHT
BEGIN:STANDARD
TZOFFSETFROM:-0700
TZOFFSETTO:-0800
TZNAME:PST
DTSTART:20261101T090000
END:STANDARD
END:VTIMEZONE
BEGIN:VEVENT
DTSTART;VALUE=DATE:20250227
DTEND;VALUE=DATE:20250309
DTSTAMP:20260422T021202
CREATED:20241101T231705Z
LAST-MODIFIED:20250222T184627Z
UID:173400-1740614400-1741478399@www.romasposa.com
SUMMARY:Love by Pnina Tornai Bridal Trunk Show
DESCRIPTION:I created my very first Love by Pnina Tornai collection as a way to share my love with brides all over the world\, allowing more brides the opportunity to wear their dream Pnina dress. Now\, with my new collection\, I am finally bringing my gowns to bridal salons across the United States\, making it even easier for my brides to say “yes” to one of my dresses! \nI designed this collection to make every bride look and feel her best— that’s why I do what I do!\nLove\,
URL:https://www.romasposa.com/event/pnina-tornai-trunk-show/
END:VEVENT
BEGIN:VEVENT
DTSTART;VALUE=DATE:20250227
DTEND;VALUE=DATE:20250323
DTSTAMP:20260422T021202
CREATED:20250129T182509Z
LAST-MODIFIED:20250218T201403Z
UID:173479-1740614400-1742687999@www.romasposa.com
SUMMARY:Serge Jevaguine Bridal & Evening Trunk Show
DESCRIPTION:Serge Jevaguine is where wedding dreams are brought to life through the creation of exquisite couture dresses. Established in 2018 by Larissa\, the creative director\, and Serge Jevaguine\, the CEO\, this family-owned company embodies elegance\, creativity\, and unparalleled craftsmanship. With Larissa’s extensive 30 years of experience in the industry\, refined through collaborations with prestigious fashion houses and studies in Europe\, the company brings a legacy of expertise to every garment. At Serge Jevaguine\, pride is taken in the crafting of bespoke wedding gowns that are unique works of art\, utilizing only the finest European fabrics and luxury materials.
URL:https://www.romasposa.com/event/serge-jevaguine-bridal-evening-trunk-show/
END:VEVENT
BEGIN:VEVENT
DTSTART;VALUE=DATE:20250306
DTEND;VALUE=DATE:20250307
DTSTAMP:20260422T021202
CREATED:20250219T183048Z
LAST-MODIFIED:20250219T183048Z
UID:173513-1741219200-1741305599@www.romasposa.com
SUMMARY:Best of Monique Lhuillier
DESCRIPTION:
URL:https://www.romasposa.com/event/best-of-monique-lhuillier/
END:VEVENT
END:VCALENDAR